BEGIN:VCALENDAR
VERSION:2.0
PRODID:-//pretalx//talks.darc.de//HFRANE
BEGIN:VTIMEZONE
TZID:Europe/Berlin
BEGIN:STANDARD
DTSTART:20001029T030000
RRULE:FREQ=YEARLY;BYDAY=-1SU;BYMONTH=10
TZNAME:CET
TZOFFSETFROM:+0200
TZOFFSETTO:+0100
END:STANDARD
BEGIN:DAYLIGHT
DTSTART:20000326T020000
RRULE:FREQ=YEARLY;BYDAY=-1SU;BYMONTH=3
TZNAME:CEST
TZOFFSETFROM:+0100
TZOFFSETTO:+0200
END:DAYLIGHT
END:VTIMEZONE
BEGIN:VEVENT
UID:pretalx-notfunk-ausbildungswochenende-oktober-2025-HFRANE@talks.darc.de
DTSTART;TZID=Europe/Berlin:20251004T090000
DTEND;TZID=Europe/Berlin:20251004T104500
DESCRIPTION:Nachbesprechung der Übung und Beantworten von Fragen zur prakt
 ischen Einarbeitung.
DTSTAMP:20260423T005929Z
LOCATION:Einsteiger
SUMMARY:Nachbesprechung und Organisationsstruktur - Chris (DL1DRK)
URL:https://talks.darc.de/notfunk-ausbildungswochenende-oktober-2025/talk/H
 FRANE/
END:VEVENT
END:VCALENDAR
