BEGIN:VCALENDAR
VERSION:2.0
PRODID:-//pretalx//talks.darc.de//BEVPXN
BEGIN:VTIMEZONE
TZID:Europe/Berlin
BEGIN:STANDARD
DTSTART:20001029T030000
RRULE:FREQ=YEARLY;BYDAY=-1SU;BYMONTH=10
TZNAME:CET
TZOFFSETFROM:+0200
TZOFFSETTO:+0100
END:STANDARD
BEGIN:DAYLIGHT
DTSTART:20000326T020000
RRULE:FREQ=YEARLY;BYDAY=-1SU;BYMONTH=3
TZNAME:CEST
TZOFFSETFROM:+0100
TZOFFSETTO:+0200
END:DAYLIGHT
END:VTIMEZONE
BEGIN:VEVENT
UID:pretalx-notfunk-ausbildungswochenende-oktober-2025-BEVPXN@talks.darc.de
DTSTART;TZID=Europe/Berlin:20251003T104500
DTEND;TZID=Europe/Berlin:20251003T123000
DESCRIPTION:Wie nutze ich die Führungs-Hilfsmittel in der Praxis. Eigenes 
 ausprobieren und erfahren.
DTSTAMP:20260422T092725Z
LOCATION:Fortgeschritten
SUMMARY:Führungs-Hilfsmittel in der praktischen Anwendung - Ulrich (DC1ULI
 )\, Rüdiger - DL1ITU
URL:https://talks.darc.de/notfunk-ausbildungswochenende-oktober-2025/talk/B
 EVPXN/
END:VEVENT
END:VCALENDAR
