BEGIN:VCALENDAR
VERSION:2.0
PRODID:-//pretalx//talks.darc.de//notfunk-ausbildungswochenende-oktober-202
 5//UB8KHE
BEGIN:VTIMEZONE
TZID:Europe/Berlin
BEGIN:STANDARD
DTSTART:20001029T030000
RRULE:FREQ=YEARLY;BYDAY=-1SU;BYMONTH=10
TZNAME:CET
TZOFFSETFROM:+0200
TZOFFSETTO:+0100
END:STANDARD
BEGIN:DAYLIGHT
DTSTART:20000326T020000
RRULE:FREQ=YEARLY;BYDAY=-1SU;BYMONTH=3
TZNAME:CEST
TZOFFSETFROM:+0100
TZOFFSETTO:+0200
END:DAYLIGHT
END:VTIMEZONE
BEGIN:VEVENT
UID:pretalx-notfunk-ausbildungswochenende-oktober-2025-XCR8LR@talks.darc.de
DTSTART;TZID=Europe/Berlin:20251003T090000
DTEND;TZID=Europe/Berlin:20251003T123000
DESCRIPTION:Lesen und Verstehen von Karten\, Umgang mit Hilfsmitteln wie Pl
 anzeiger und Kompass\, Orientierung im Gelände
DTSTAMP:20260422T131702Z
LOCATION:Einsteiger
SUMMARY:Kartenkunde - Lars Weiler\, DC4LW
URL:https://talks.darc.de/notfunk-ausbildungswochenende-oktober-2025/talk/X
 CR8LR/
END:VEVENT
BEGIN:VEVENT
UID:pretalx-notfunk-ausbildungswochenende-oktober-2025-ZVPRFQ@talks.darc.de
DTSTART;TZID=Europe/Berlin:20251003T200000
DTEND;TZID=Europe/Berlin:20251003T210000
DESCRIPTION:Erfahrungen aus der Rolle als Zugführer von Funkamateuren
DTSTAMP:20260422T131702Z
LOCATION:Fortgeschritten
SUMMARY:Erfahrungsbericht Zugführer – was hat mir geholfen - Lars Weiler
 \, DC4LW
URL:https://talks.darc.de/notfunk-ausbildungswochenende-oktober-2025/talk/Z
 VPRFQ/
END:VEVENT
END:VCALENDAR
