BEGIN:VCALENDAR
VERSION:2.0
PRODID:-//pretalx//talks.darc.de//notfunk-ausbildungswochenende-oktober-202
 5//QY9ZCD
BEGIN:VTIMEZONE
TZID:Europe/Berlin
BEGIN:STANDARD
DTSTART:20001029T030000
RRULE:FREQ=YEARLY;BYDAY=-1SU;BYMONTH=10
TZNAME:CET
TZOFFSETFROM:+0200
TZOFFSETTO:+0100
END:STANDARD
BEGIN:DAYLIGHT
DTSTART:20000326T020000
RRULE:FREQ=YEARLY;BYDAY=-1SU;BYMONTH=3
TZNAME:CEST
TZOFFSETFROM:+0100
TZOFFSETTO:+0200
END:DAYLIGHT
END:VTIMEZONE
BEGIN:VEVENT
UID:pretalx-notfunk-ausbildungswochenende-oktober-2025-9YLXRF@talks.darc.de
DTSTART;TZID=Europe/Berlin:20251002T140000
DTEND;TZID=Europe/Berlin:20251002T143000
DESCRIPTION:Gemeinsame Veranstaltung beider Gruppen
DTSTAMP:20260422T205223Z
LOCATION:Fortgeschritten
SUMMARY:Begrüssung & Organisatorisches - Oliver Schlag (DL7TNY)
URL:https://talks.darc.de/notfunk-ausbildungswochenende-oktober-2025/talk/9
 YLXRF/
END:VEVENT
BEGIN:VEVENT
UID:pretalx-notfunk-ausbildungswochenende-oktober-2025-XWV8ZR@talks.darc.de
DTSTART;TZID=Europe/Berlin:20251002T140000
DTEND;TZID=Europe/Berlin:20251002T143000
DESCRIPTION:Gemeinsame Veranstaltung beider Gruppen
DTSTAMP:20260422T205223Z
LOCATION:Einsteiger
SUMMARY:Begrüssung & Organisatorisches - Oliver Schlag (DL7TNY)
URL:https://talks.darc.de/notfunk-ausbildungswochenende-oktober-2025/talk/X
 WV8ZR/
END:VEVENT
BEGIN:VEVENT
UID:pretalx-notfunk-ausbildungswochenende-oktober-2025-LNXWYF@talks.darc.de
DTSTART;TZID=Europe/Berlin:20251002T143000
DTEND;TZID=Europe/Berlin:20251002T161500
DESCRIPTION:Wie hat sich der Notfunk zu dem jetzigen Konzept entwickelt und
  wieso ist dies aktuell der vorgesehene Weg?
DTSTAMP:20260422T205223Z
LOCATION:Einsteiger
SUMMARY:Warum diese Art des Notfunk? - Oliver Schlag (DL7TNY)
URL:https://talks.darc.de/notfunk-ausbildungswochenende-oktober-2025/talk/L
 NXWYF/
END:VEVENT
BEGIN:VEVENT
UID:pretalx-notfunk-ausbildungswochenende-oktober-2025-8BDQ9V@talks.darc.de
DTSTART;TZID=Europe/Berlin:20251003T090000
DTEND;TZID=Europe/Berlin:20251003T103000
DESCRIPTION:Wie verteilt sich die Arbeit im Notfunk zwischen den einzelnen 
 Gruppen
DTSTAMP:20260422T205223Z
LOCATION:Fortgeschritten
SUMMARY:Aufgabenverteilung im Notfunk - Oliver Schlag (DL7TNY)
URL:https://talks.darc.de/notfunk-ausbildungswochenende-oktober-2025/talk/8
 BDQ9V/
END:VEVENT
BEGIN:VEVENT
UID:pretalx-notfunk-ausbildungswochenende-oktober-2025-PGVE9B@talks.darc.de
DTSTART;TZID=Europe/Berlin:20251003T164500
DTEND;TZID=Europe/Berlin:20251003T183000
DESCRIPTION:Aufbau eines Netzes in einzelnen Schritten\, so dass mit jedem 
 Schritt eine neue Technik eingeführt und die Inbetriebnahme erklärt wird
 .
DTSTAMP:20260422T205223Z
LOCATION:Einsteiger
SUMMARY:Praktische Einführung in den Netzaufbau - Oliver Schlag (DL7TNY)
URL:https://talks.darc.de/notfunk-ausbildungswochenende-oktober-2025/talk/P
 GVE9B/
END:VEVENT
BEGIN:VEVENT
UID:pretalx-notfunk-ausbildungswochenende-oktober-2025-VYJPX7@talks.darc.de
DTSTART;TZID=Europe/Berlin:20251005T104500
DTEND;TZID=Europe/Berlin:20251005T121500
DESCRIPTION:Was können wir aus den vergangenen Ausbildungswochenenden für
  die Praxis lernen.
DTSTAMP:20260422T205223Z
LOCATION:Fortgeschritten
SUMMARY:Lehren für die Praxis - Oliver Schlag (DL7TNY)
URL:https://talks.darc.de/notfunk-ausbildungswochenende-oktober-2025/talk/V
 YJPX7/
END:VEVENT
BEGIN:VEVENT
UID:pretalx-notfunk-ausbildungswochenende-oktober-2025-AWPUMJ@talks.darc.de
DTSTART;TZID=Europe/Berlin:20251005T123000
DTEND;TZID=Europe/Berlin:20251005T130000
DESCRIPTION:Abschlussbesprechung der Veranstaltung
DTSTAMP:20260422T205223Z
LOCATION:Fortgeschritten
SUMMARY:Abschlussbesprechung - Oliver Schlag (DL7TNY)
URL:https://talks.darc.de/notfunk-ausbildungswochenende-oktober-2025/talk/A
 WPUMJ/
END:VEVENT
BEGIN:VEVENT
UID:pretalx-notfunk-ausbildungswochenende-oktober-2025-W37CRL@talks.darc.de
DTSTART;TZID=Europe/Berlin:20251005T123000
DTEND;TZID=Europe/Berlin:20251005T130000
DESCRIPTION:Abschlussbesprechung der Veranstaltung
DTSTAMP:20260422T205223Z
LOCATION:Einsteiger
SUMMARY:Abschlussbesprechung - Oliver Schlag (DL7TNY)
URL:https://talks.darc.de/notfunk-ausbildungswochenende-oktober-2025/talk/W
 37CRL/
END:VEVENT
END:VCALENDAR
