BEGIN:VCALENDAR
VERSION:2.0
PRODID:-//pretalx//talks.darc.de//notfunk-ausbildungswochenende-oktober-202
 5//PQYPEA
BEGIN:VTIMEZONE
TZID:Europe/Berlin
BEGIN:STANDARD
DTSTART:20001029T030000
RRULE:FREQ=YEARLY;BYDAY=-1SU;BYMONTH=10
TZNAME:CET
TZOFFSETFROM:+0200
TZOFFSETTO:+0100
END:STANDARD
BEGIN:DAYLIGHT
DTSTART:20000326T020000
RRULE:FREQ=YEARLY;BYDAY=-1SU;BYMONTH=3
TZNAME:CEST
TZOFFSETFROM:+0100
TZOFFSETTO:+0200
END:DAYLIGHT
END:VTIMEZONE
BEGIN:VEVENT
UID:pretalx-notfunk-ausbildungswochenende-oktober-2025-8FH3AC@talks.darc.de
DTSTART;TZID=Europe/Berlin:20251005T104500
DTEND;TZID=Europe/Berlin:20251005T121500
DESCRIPTION:Der Anhänger für das Notfunk-Material\, was ist darauf verlas
 tet\, was sein Zweck ist. Dazu die Pflege des genutzten Materials\, die Or
 dnung im Anhänger wiederherstellen.
DTSTAMP:20260422T131701Z
LOCATION:Einsteiger
SUMMARY:Materialpflege & Materialanhänger - Dirk (DM7DS)
URL:https://talks.darc.de/notfunk-ausbildungswochenende-oktober-2025/talk/8
 FH3AC/
END:VEVENT
END:VCALENDAR
