BEGIN:VCALENDAR
VERSION:2.0
PRODID:-//pretalx//talks.darc.de//
BEGIN:VTIMEZONE
TZID:Europe/Berlin
BEGIN:STANDARD
DTSTART:20001029T030000
RRULE:FREQ=YEARLY;BYDAY=-1SU;BYMONTH=10
TZNAME:CET
TZOFFSETFROM:+0200
TZOFFSETTO:+0100
END:STANDARD
BEGIN:DAYLIGHT
DTSTART:20000326T020000
RRULE:FREQ=YEARLY;BYDAY=-1SU;BYMONTH=3
TZNAME:CEST
TZOFFSETFROM:+0100
TZOFFSETTO:+0200
END:DAYLIGHT
END:VTIMEZONE
BEGIN:VEVENT
UID:pretalx-notfunk-ausbildungswochenende-oktober-2025-9YLXRF@talks.darc.de
DTSTART;TZID=Europe/Berlin:20251002T140000
DTEND;TZID=Europe/Berlin:20251002T143000
DESCRIPTION:Gemeinsame Veranstaltung beider Gruppen
DTSTAMP:20260421T120614Z
LOCATION:Fortgeschritten
SUMMARY:Begrüssung & Organisatorisches - Oliver (DL7TNY)
URL:https://talks.darc.de/notfunk-ausbildungswochenende-oktober-2025/talk/9
 YLXRF/
END:VEVENT
BEGIN:VEVENT
UID:pretalx-notfunk-ausbildungswochenende-oktober-2025-XWV8ZR@talks.darc.de
DTSTART;TZID=Europe/Berlin:20251002T140000
DTEND;TZID=Europe/Berlin:20251002T143000
DESCRIPTION:Gemeinsame Veranstaltung beider Gruppen
DTSTAMP:20260421T120614Z
LOCATION:Einsteiger
SUMMARY:Begrüssung & Organisatorisches - Oliver (DL7TNY)
URL:https://talks.darc.de/notfunk-ausbildungswochenende-oktober-2025/talk/X
 WV8ZR/
END:VEVENT
BEGIN:VEVENT
UID:pretalx-notfunk-ausbildungswochenende-oktober-2025-LNXWYF@talks.darc.de
DTSTART;TZID=Europe/Berlin:20251002T143000
DTEND;TZID=Europe/Berlin:20251002T161500
DESCRIPTION:Wie hat sich der Notfunk zu dem jetzigen Konzept entwickelt und
  wieso ist dies aktuell der vorgesehene Weg?
DTSTAMP:20260421T120614Z
LOCATION:Einsteiger
SUMMARY:Warum diese Art des Notfunk? - Oliver (DL7TNY)
URL:https://talks.darc.de/notfunk-ausbildungswochenende-oktober-2025/talk/L
 NXWYF/
END:VEVENT
BEGIN:VEVENT
UID:pretalx-notfunk-ausbildungswochenende-oktober-2025-7BPQZH@talks.darc.de
DTSTART;TZID=Europe/Berlin:20251002T143000
DTEND;TZID=Europe/Berlin:20251002T161500
DESCRIPTION:Ablauf einer Katastrophe und die Arbeit der zuständigen Gefahr
 enabwehr.
DTSTAMP:20260421T120614Z
LOCATION:Fortgeschritten
SUMMARY:Ablauf einer Katastrophe und die Arbeit der zuständigen Gefahrenab
 wehr - Rüdiger - DL1ITU
URL:https://talks.darc.de/notfunk-ausbildungswochenende-oktober-2025/talk/7
 BPQZH/
END:VEVENT
BEGIN:VEVENT
UID:pretalx-notfunk-ausbildungswochenende-oktober-2025-RXWGJJ@talks.darc.de
DTSTART;TZID=Europe/Berlin:20251002T163000
DTEND;TZID=Europe/Berlin:20251002T183000
DESCRIPTION:Crash-Kurs im Führen von Menschen\, Führungsvorgang\, DV-100
DTSTAMP:20260421T120614Z
LOCATION:Fortgeschritten
SUMMARY:Führen von Menschen - Ulrich (DC1ULI)
URL:https://talks.darc.de/notfunk-ausbildungswochenende-oktober-2025/talk/R
 XWGJJ/
END:VEVENT
BEGIN:VEVENT
UID:pretalx-notfunk-ausbildungswochenende-oktober-2025-USWAM8@talks.darc.de
DTSTART;TZID=Europe/Berlin:20251002T163000
DTEND;TZID=Europe/Berlin:20251002T183000
DESCRIPTION:Grundlegendes Verständnis von IP-Netzen\, der Hardware und von
  Routing\, im Speziellen des verwendeten Mesh Routings. Dies ist wichtig\,
  damit alle Teilnehmenden die selbe Wissensbasis haben.
DTSTAMP:20260421T120614Z
LOCATION:Einsteiger
SUMMARY:Grundlagen von IP Netzen - Patrick (DC9PA)
URL:https://talks.darc.de/notfunk-ausbildungswochenende-oktober-2025/talk/U
 SWAM8/
END:VEVENT
BEGIN:VEVENT
UID:pretalx-notfunk-ausbildungswochenende-oktober-2025-DS389M@talks.darc.de
DTSTART;TZID=Europe/Berlin:20251002T200000
DTEND;TZID=Europe/Berlin:20251002T213000
DESCRIPTION:Erklärung der Notfunk-Telefonanlage und wie diese ins Gesamtko
 nzept passt.
DTSTAMP:20260421T120614Z
LOCATION:Einsteiger
SUMMARY:Die Notfunk-Telefonanlage - Andreas (DL4NRO)
URL:https://talks.darc.de/notfunk-ausbildungswochenende-oktober-2025/talk/D
 S389M/
END:VEVENT
BEGIN:VEVENT
UID:pretalx-notfunk-ausbildungswochenende-oktober-2025-KWUMSX@talks.darc.de
DTSTART;TZID=Europe/Berlin:20251002T200000
DTEND;TZID=Europe/Berlin:20251002T220000
DESCRIPTION:Welche Hilfsmittel stehen einem Führungsteam zur Verfügung un
 d wie können diese genutzt werden? Arbeitsorganisation\, Führungsteam
DTSTAMP:20260421T120614Z
LOCATION:Fortgeschritten
SUMMARY:Führungs-Hilfsmittel - Ulrich (DC1ULI)
URL:https://talks.darc.de/notfunk-ausbildungswochenende-oktober-2025/talk/K
 WUMSX/
END:VEVENT
BEGIN:VEVENT
UID:pretalx-notfunk-ausbildungswochenende-oktober-2025-8BDQ9V@talks.darc.de
DTSTART;TZID=Europe/Berlin:20251003T090000
DTEND;TZID=Europe/Berlin:20251003T103000
DESCRIPTION:Wie verteilt sich die Arbeit im Notfunk zwischen den einzelnen 
 Gruppen
DTSTAMP:20260421T120614Z
LOCATION:Fortgeschritten
SUMMARY:Aufgabenverteilung im Notfunk - Oliver (DL7TNY)
URL:https://talks.darc.de/notfunk-ausbildungswochenende-oktober-2025/talk/8
 BDQ9V/
END:VEVENT
BEGIN:VEVENT
UID:pretalx-notfunk-ausbildungswochenende-oktober-2025-XCR8LR@talks.darc.de
DTSTART;TZID=Europe/Berlin:20251003T090000
DTEND;TZID=Europe/Berlin:20251003T123000
DESCRIPTION:Lesen und Verstehen von Karten\, Umgang mit Hilfsmitteln wie Pl
 anzeiger und Kompass\, Orientierung im Gelände
DTSTAMP:20260421T120614Z
LOCATION:Einsteiger
SUMMARY:Kartenkunde - Lars Weiler\, DC4LW
URL:https://talks.darc.de/notfunk-ausbildungswochenende-oktober-2025/talk/X
 CR8LR/
END:VEVENT
BEGIN:VEVENT
UID:pretalx-notfunk-ausbildungswochenende-oktober-2025-BEVPXN@talks.darc.de
DTSTART;TZID=Europe/Berlin:20251003T104500
DTEND;TZID=Europe/Berlin:20251003T123000
DESCRIPTION:Wie nutze ich die Führungs-Hilfsmittel in der Praxis. Eigenes 
 ausprobieren und erfahren.
DTSTAMP:20260421T120614Z
LOCATION:Fortgeschritten
SUMMARY:Führungs-Hilfsmittel in der praktischen Anwendung - Ulrich (DC1ULI
 )\, Rüdiger - DL1ITU
URL:https://talks.darc.de/notfunk-ausbildungswochenende-oktober-2025/talk/B
 EVPXN/
END:VEVENT
BEGIN:VEVENT
UID:pretalx-notfunk-ausbildungswochenende-oktober-2025-H3U79G@talks.darc.de
DTSTART;TZID=Europe/Berlin:20251003T143000
DTEND;TZID=Europe/Berlin:20251003T163000
DESCRIPTION:Gruppenarbeit zur Planung eines Netzwerkes. Verschiedene Gruppe
 n erhalten verschiedene Szenarien und müssen diese eigenständig planen.
DTSTAMP:20260421T120614Z
LOCATION:Fortgeschritten
SUMMARY:Planen eines MESH-Netzwerks - 
URL:https://talks.darc.de/notfunk-ausbildungswochenende-oktober-2025/talk/H
 3U79G/
END:VEVENT
BEGIN:VEVENT
UID:pretalx-notfunk-ausbildungswochenende-oktober-2025-FYBVU3@talks.darc.de
DTSTART;TZID=Europe/Berlin:20251003T143000
DTEND;TZID=Europe/Berlin:20251003T163000
DESCRIPTION:Grundlagen\, was ein Mesh ist\, wie die AREDN-Oberfläche aussi
 eht\, wie sie bedient wird\, was wir für Checklisten haben\, etc. Erklär
 ung der Begrifflichkeiten und der einzelnen Module
DTSTAMP:20260421T120614Z
LOCATION:Einsteiger
SUMMARY:Mesh-Netzwerke - Bernhard (DM6BS)
URL:https://talks.darc.de/notfunk-ausbildungswochenende-oktober-2025/talk/F
 YBVU3/
END:VEVENT
BEGIN:VEVENT
UID:pretalx-notfunk-ausbildungswochenende-oktober-2025-GYMWJ8@talks.darc.de
DTSTART;TZID=Europe/Berlin:20251003T164500
DTEND;TZID=Europe/Berlin:20251003T183000
DESCRIPTION:Vorstellung der Planungen aus dem Projekt des Nachmittags und o
 ffene Diskussion über die Probleme die es bei der Planung gab.
DTSTAMP:20260421T120614Z
LOCATION:Fortgeschritten
SUMMARY:Vorstellung der Pläne - 
URL:https://talks.darc.de/notfunk-ausbildungswochenende-oktober-2025/talk/G
 YMWJ8/
END:VEVENT
BEGIN:VEVENT
UID:pretalx-notfunk-ausbildungswochenende-oktober-2025-PGVE9B@talks.darc.de
DTSTART;TZID=Europe/Berlin:20251003T164500
DTEND;TZID=Europe/Berlin:20251003T183000
DESCRIPTION:Aufbau eines Netzes in einzelnen Schritten\, so dass mit jedem 
 Schritt eine neue Technik eingeführt und die Inbetriebnahme erklärt wird
 .
DTSTAMP:20260421T120614Z
LOCATION:Einsteiger
SUMMARY:Praktische Einführung in den Netzaufbau - Oliver (DL7TNY)
URL:https://talks.darc.de/notfunk-ausbildungswochenende-oktober-2025/talk/P
 GVE9B/
END:VEVENT
BEGIN:VEVENT
UID:pretalx-notfunk-ausbildungswochenende-oktober-2025-F77MXB@talks.darc.de
DTSTART;TZID=Europe/Berlin:20251003T200000
DTEND;TZID=Europe/Berlin:20251003T213000
DESCRIPTION:Eigenständiges Aufbauen eines gemeinsamen Netzes
DTSTAMP:20260421T120614Z
LOCATION:Einsteiger
SUMMARY:Übung in Eigenregie der Teilnehmenden - 
URL:https://talks.darc.de/notfunk-ausbildungswochenende-oktober-2025/talk/F
 77MXB/
END:VEVENT
BEGIN:VEVENT
UID:pretalx-notfunk-ausbildungswochenende-oktober-2025-ZVPRFQ@talks.darc.de
DTSTART;TZID=Europe/Berlin:20251003T200000
DTEND;TZID=Europe/Berlin:20251003T210000
DESCRIPTION:Erfahrungen aus der Rolle als Zugführer von Funkamateuren
DTSTAMP:20260421T120614Z
LOCATION:Fortgeschritten
SUMMARY:Erfahrungsbericht Zugführer – was hat mir geholfen - Lars Weiler
 \, DC4LW
URL:https://talks.darc.de/notfunk-ausbildungswochenende-oktober-2025/talk/Z
 VPRFQ/
END:VEVENT
BEGIN:VEVENT
UID:pretalx-notfunk-ausbildungswochenende-oktober-2025-HFRANE@talks.darc.de
DTSTART;TZID=Europe/Berlin:20251004T090000
DTEND;TZID=Europe/Berlin:20251004T104500
DESCRIPTION:Nachbesprechung der Übung und Beantworten von Fragen zur prakt
 ischen Einarbeitung.
DTSTAMP:20260421T120614Z
LOCATION:Einsteiger
SUMMARY:Nachbesprechung und Organisationsstruktur - Chris (DL1DRK)
URL:https://talks.darc.de/notfunk-ausbildungswochenende-oktober-2025/talk/H
 FRANE/
END:VEVENT
BEGIN:VEVENT
UID:pretalx-notfunk-ausbildungswochenende-oktober-2025-A3GXSH@talks.darc.de
DTSTART;TZID=Europe/Berlin:20251004T090000
DTEND;TZID=Europe/Berlin:20251004T123000
DESCRIPTION:Erklären des Übungsszenarios\, Planen einer Taktik\, Planen d
 er Links\, dann gemeinsame Besprechung mit den Teilnehmenden des Grundkurs
 es und Durchführen einer Vorbesprechung\, Verteilen der Aufgaben\, Materi
 al-Check etc.
DTSTAMP:20260421T120614Z
LOCATION:Fortgeschritten
SUMMARY:Übungsvorbereitung - 
URL:https://talks.darc.de/notfunk-ausbildungswochenende-oktober-2025/talk/A
 3GXSH/
END:VEVENT
BEGIN:VEVENT
UID:pretalx-notfunk-ausbildungswochenende-oktober-2025-ELQMZK@talks.darc.de
DTSTART;TZID=Europe/Berlin:20251004T110000
DTEND;TZID=Europe/Berlin:20251004T123000
DESCRIPTION:Risiken\, Gefahren\, Eigenschutz und PSA in der Praxis erklärt
 .
DTSTAMP:20260421T120614Z
LOCATION:Einsteiger
SUMMARY:Eigenschutz und PSA - Ulrich (DC1ULI)
URL:https://talks.darc.de/notfunk-ausbildungswochenende-oktober-2025/talk/E
 LQMZK/
END:VEVENT
BEGIN:VEVENT
UID:pretalx-notfunk-ausbildungswochenende-oktober-2025-JJHZJF@talks.darc.de
DTSTART;TZID=Europe/Berlin:20251004T143000
DTEND;TZID=Europe/Berlin:20251004T193000
DESCRIPTION:Gemeinsame Übung der beiden Lehrgangsteile
DTSTAMP:20260421T120614Z
LOCATION:Einsteiger
SUMMARY:Übung - 
URL:https://talks.darc.de/notfunk-ausbildungswochenende-oktober-2025/talk/J
 JHZJF/
END:VEVENT
BEGIN:VEVENT
UID:pretalx-notfunk-ausbildungswochenende-oktober-2025-FVVQ8U@talks.darc.de
DTSTART;TZID=Europe/Berlin:20251004T143000
DTEND;TZID=Europe/Berlin:20251004T193000
DESCRIPTION:Gemeinsame Übung der beiden Lehrgangsteile.
DTSTAMP:20260421T120614Z
LOCATION:Fortgeschritten
SUMMARY:Übung - 
URL:https://talks.darc.de/notfunk-ausbildungswochenende-oktober-2025/talk/F
 VVQ8U/
END:VEVENT
BEGIN:VEVENT
UID:pretalx-notfunk-ausbildungswochenende-oktober-2025-9HGVL9@talks.darc.de
DTSTART;TZID=Europe/Berlin:20251004T210000
DTEND;TZID=Europe/Berlin:20251004T220000
DESCRIPTION:Nachbesprechung der Übung im Kreis aller Teilnehmenden
DTSTAMP:20260421T120614Z
LOCATION:Einsteiger
SUMMARY:Nachbesprechung - Phil (DF5PMF)
URL:https://talks.darc.de/notfunk-ausbildungswochenende-oktober-2025/talk/9
 HGVL9/
END:VEVENT
BEGIN:VEVENT
UID:pretalx-notfunk-ausbildungswochenende-oktober-2025-KTWTGD@talks.darc.de
DTSTART;TZID=Europe/Berlin:20251004T210000
DTEND;TZID=Europe/Berlin:20251004T220000
DESCRIPTION:Nachbesprechung der Übung im Kreis aller Teilnehmenden
DTSTAMP:20260421T120614Z
LOCATION:Fortgeschritten
SUMMARY:Nachbesprechung - Phil (DF5PMF)
URL:https://talks.darc.de/notfunk-ausbildungswochenende-oktober-2025/talk/K
 TWTGD/
END:VEVENT
BEGIN:VEVENT
UID:pretalx-notfunk-ausbildungswochenende-oktober-2025-UUEVSJ@talks.darc.de
DTSTART;TZID=Europe/Berlin:20251005T090000
DTEND;TZID=Europe/Berlin:20251005T103000
DESCRIPTION:Wie kann jeder für sich\, unabgängig vom Amateurfunk\, zuhaus
 e Vorsorge treffen.
DTSTAMP:20260421T120614Z
LOCATION:Einsteiger
SUMMARY:Persönliche Vorsorge - Ulrich (DC1ULI)
URL:https://talks.darc.de/notfunk-ausbildungswochenende-oktober-2025/talk/U
 UEVSJ/
END:VEVENT
BEGIN:VEVENT
UID:pretalx-notfunk-ausbildungswochenende-oktober-2025-3LT7PG@talks.darc.de
DTSTART;TZID=Europe/Berlin:20251005T090000
DTEND;TZID=Europe/Berlin:20251005T103000
DESCRIPTION:Welche Möglichkeiten der externen Anbindungen gibt es und welc
 he Vorteile\, aber auch Nachteile sind mit den einzelnen Optionen verbunde
 n
DTSTAMP:20260421T120614Z
LOCATION:Fortgeschritten
SUMMARY:Weitverkehr - Andreas (DL4NRO)
URL:https://talks.darc.de/notfunk-ausbildungswochenende-oktober-2025/talk/3
 LT7PG/
END:VEVENT
BEGIN:VEVENT
UID:pretalx-notfunk-ausbildungswochenende-oktober-2025-8FH3AC@talks.darc.de
DTSTART;TZID=Europe/Berlin:20251005T104500
DTEND;TZID=Europe/Berlin:20251005T121500
DESCRIPTION:Der Anhänger für das Notfunk-Material\, was ist darauf verlas
 tet\, was sein Zweck ist. Dazu die Pflege des genutzten Materials\, die Or
 dnung im Anhänger wiederherstellen.
DTSTAMP:20260421T120614Z
LOCATION:Einsteiger
SUMMARY:Materialpflege & Materialanhänger - Dirk (DM7DS)
URL:https://talks.darc.de/notfunk-ausbildungswochenende-oktober-2025/talk/8
 FH3AC/
END:VEVENT
BEGIN:VEVENT
UID:pretalx-notfunk-ausbildungswochenende-oktober-2025-VYJPX7@talks.darc.de
DTSTART;TZID=Europe/Berlin:20251005T104500
DTEND;TZID=Europe/Berlin:20251005T121500
DESCRIPTION:Was können wir aus den vergangenen Ausbildungswochenenden für
  die Praxis lernen.
DTSTAMP:20260421T120614Z
LOCATION:Fortgeschritten
SUMMARY:Lehren für die Praxis - Oliver (DL7TNY)
URL:https://talks.darc.de/notfunk-ausbildungswochenende-oktober-2025/talk/V
 YJPX7/
END:VEVENT
BEGIN:VEVENT
UID:pretalx-notfunk-ausbildungswochenende-oktober-2025-AWPUMJ@talks.darc.de
DTSTART;TZID=Europe/Berlin:20251005T123000
DTEND;TZID=Europe/Berlin:20251005T130000
DESCRIPTION:Abschlussbesprechung der Veranstaltung
DTSTAMP:20260421T120614Z
LOCATION:Fortgeschritten
SUMMARY:Abschlussbesprechung - Oliver (DL7TNY)
URL:https://talks.darc.de/notfunk-ausbildungswochenende-oktober-2025/talk/A
 WPUMJ/
END:VEVENT
BEGIN:VEVENT
UID:pretalx-notfunk-ausbildungswochenende-oktober-2025-W37CRL@talks.darc.de
DTSTART;TZID=Europe/Berlin:20251005T123000
DTEND;TZID=Europe/Berlin:20251005T130000
DESCRIPTION:Abschlussbesprechung der Veranstaltung
DTSTAMP:20260421T120614Z
LOCATION:Einsteiger
SUMMARY:Abschlussbesprechung - Oliver (DL7TNY)
URL:https://talks.darc.de/notfunk-ausbildungswochenende-oktober-2025/talk/W
 37CRL/
END:VEVENT
BEGIN:VEVENT
UID:pretalx-notfunk-ausbildungswochenende-oktober-2025-NW3PBW@talks.darc.de
DTSTART;TZID=Europe/Berlin:20251005T130000
DTEND;TZID=Europe/Berlin:20251005T143000
DESCRIPTION:Gemeinsames Abbauen der Veranstaltung
DTSTAMP:20260421T120614Z
LOCATION:Fortgeschritten
SUMMARY:Abbauen - 
URL:https://talks.darc.de/notfunk-ausbildungswochenende-oktober-2025/talk/N
 W3PBW/
END:VEVENT
BEGIN:VEVENT
UID:pretalx-notfunk-ausbildungswochenende-oktober-2025-SRE8KH@talks.darc.de
DTSTART;TZID=Europe/Berlin:20251005T130000
DTEND;TZID=Europe/Berlin:20251005T143000
DESCRIPTION:Gemeinsames Abbauen der Veranstaltung
DTSTAMP:20260421T120614Z
LOCATION:Einsteiger
SUMMARY:Abbauen - 
URL:https://talks.darc.de/notfunk-ausbildungswochenende-oktober-2025/talk/S
 RE8KH/
END:VEVENT
END:VCALENDAR
