BEGIN:VCALENDAR
VERSION:2.0
PRODID:-//pretalx//talks.darc.de//XWGV8J
BEGIN:VTIMEZONE
TZID:Europe/Berlin
BEGIN:STANDARD
DTSTART:20001029T030000
RRULE:FREQ=YEARLY;BYDAY=-1SU;BYMONTH=10
TZNAME:CET
TZOFFSETFROM:+0200
TZOFFSETTO:+0100
END:STANDARD
BEGIN:DAYLIGHT
DTSTART:20000326T020000
RRULE:FREQ=YEARLY;BYDAY=-1SU;BYMONTH=3
TZNAME:CEST
TZOFFSETFROM:+0100
TZOFFSETTO:+0200
END:DAYLIGHT
END:VTIMEZONE
BEGIN:VEVENT
UID:pretalx-funk-tag-2026-XWGV8J@talks.darc.de
DTSTART;TZID=Europe/Berlin:20260425T110000
DTEND;TZID=Europe/Berlin:20260425T120000
DESCRIPTION:Das [AfuBarcamp](https://afubarcamp.de) ist seit Jahren eine kl
 eine\, aber geile Veranstaltung der Weiterbildung im Amateurfunk. Regelmä
 ßig treffen sich Interessierte und tauschen sich zu verschiedensten Theme
 n aus\, die gerade anliegen. Andreas Krüger\, DJ3EI\, Orgateam-Mitglied u
 nd Moderator von Anfang an\, lädt zu einer kleinen "Stadtführung" ein\, 
 vorbei an Höhe- und Tiefpunkten der Geschichte des AfuBarcamps.
DTSTAMP:20260421T075411Z
LOCATION:Raum 3
SUMMARY:AfuBarcamp: Wie es wurde. Was es ist. - Andreas Krüger
URL:https://talks.darc.de/funk-tag-2026/talk/XWGV8J/
END:VEVENT
END:VCALENDAR
